BEGIN:VCALENDAR
TZID:Europe/Paris
BEGIN:VEVENT
CLASS:PUBLIC
CREATED:20260426T001716
DESCRIPTION:<div class="woocommerce-product-details__short-description">\n\nAu départ de THEGRA (46), notre point de départ et d’escale pour cette journée de randonnée au sein du Haut-Quercy, je vous propose de découvrir les merveilles que nous réserve cette région vallonnée via les chemins cadastrés ouverts à la circulation.\n\nSituée au nord, cette région est traversée par la rivière  » la Dordogne « , très prisée des pécheurs ainsi que par la rivière  » la Cère  » qui prend sa source à Aurillac à 60 km en amont. Nombreux sont les châteaux médiévaux que l’on peut admirer ou visiter. Cette région bénéficie d’un climat agréable sans neige mais avec beaucoup de collines et vallées, ce qui nous permet de circuler toute l’année et de profitez des nombreux dénivelés du secteur.\n<h4><strong>Restauration</strong></h4>\nLe repas du midi se fera auprès de notre partenaire local chez "Sèv et Pat" à Sousceyrac. (à régler directement sur place).\nLe repas du soir se fera auprès de nos partenaires locaux suivant le logement sélectionné.\n<h4><strong>Hébergement </strong></h4>\nPour le logement, nous vous avons sélectionné 2 partenaires locaux : <a href="http://www.les-chalets-de-thegra.com/" target="_blank" rel="noopener"><strong>Les chalets de Thégra</strong></a> et <a href="https://www.chambredhote-padirac-rocamadour.com/fr/les-roulottes-de-padirac" target="_blank" rel="noopener"><strong>Les Roulottes de Padirac</strong></a>. Suivant votre choix, vous devez prendre contact avec eux en direct pour réserver et régler votre hébergement pour la ou les nuit(s).\n\n</div>
DTEND:20220417T180000Z
DTSTAMP:20260426T001716
DTSTART:20220416T083000
LAST-MODIFIED:20091109T101015
LOCATION:au départ de Thégra (46), Camp de Vayssie, Thégra, , 46500
SUMMARY;LANGUAGE=en-us:WEEK-END QUAD 16/04/22 au 17/04/22
BEGIN:VALARM
TRIGGER:-PT1440M
ACTION:DISPLAY
DESCRIPTION:Reminder
END:VALARM
END:VEVENT
END:VCALENDAR
